BEGIN:VCALENDAR
VERSION:2.0
PRODID:-//Paróquia Santo Antonio - ECPv6.15.13.1//NONSGML v1.0//EN
CALSCALE:GREGORIAN
METHOD:PUBLISH
X-ORIGINAL-URL:https://santoantoniorancharia.com.br
X-WR-CALDESC:Eventos para Paróquia Santo Antonio
REFRESH-INTERVAL;VALUE=DURATION:PT1H
X-Robots-Tag:noindex
X-PUBLISHED-TTL:PT1H
BEGIN:VTIMEZONE
TZID:America/Sao_Paulo
BEGIN:STANDARD
TZOFFSETFROM:-0300
TZOFFSETTO:-0300
TZNAME:-03
DTSTART:20220101T000000
END:STANDARD
END:VTIMEZONE
BEGIN:VEVENT
DTSTART;VALUE=DATE:20231001
DTEND;VALUE=DATE:20231101
DTSTAMP:20260423T174236
CREATED:20230505T110544Z
LAST-MODIFIED:20230630T190913Z
UID:901-1696118400-1698796799@santoantoniorancharia.com.br
SUMMARY:Quermesses de Outubro
DESCRIPTION:Comemoração dos Santos de Outubro\, com as tradicionais quermesses de Rancharia\, para celebrar os dias dos santos e santas da nossa igreja: \nNossa Senhora Aparecida \nSanta Tereza D`Ávila \nSanta Terezinha de Jesus \nSão Judas Tadeu
URL:https://santoantoniorancharia.com.br/evento/quermesses-de-outubro/
LOCATION:Paróquia Santo Antonio\, Rua Felipe Camarão\, 956\, Rancharia\, São Paulo\, 19600-000\, Brasil
CATEGORIES:Eventos Anuais
ATTACH;FMTTYPE=image/jpeg:https://santoantoniorancharia.com.br/wp-content/uploads/2016/05/sta-p-quermesse.jpg
END:VEVENT
BEGIN:VEVENT
DTSTART;VALUE=DATE:20230826
DTEND;VALUE=DATE:20230828
DTSTAMP:20260423T174236
CREATED:20160512T121345Z
LAST-MODIFIED:20230515T004437Z
UID:940-1693008000-1693180799@santoantoniorancharia.com.br
SUMMARY:Aniversário da Paróquia
DESCRIPTION:26 de Agosto – Comemoração dos 88 anos da Paróquia Santo Antônio de Rancharia/SP
URL:https://santoantoniorancharia.com.br/evento/aniversario-paroquia-88-anos/
LOCATION:Paróquia Santo Antonio\, Rua Felipe Camarão\, 956\, Rancharia\, São Paulo\, 19600-000\, Brasil
CATEGORIES:Eventos Anuais
ATTACH;FMTTYPE=image/jpeg:https://santoantoniorancharia.com.br/wp-content/uploads/2016/05/88-anos.jpg
END:VEVENT
BEGIN:VEVENT
DTSTART;VALUE=DATE:20230604
DTEND;VALUE=DATE:20230614
DTSTAMP:20260423T174236
CREATED:20160524T163708Z
LAST-MODIFIED:20230525T231449Z
UID:1839-1685836800-1686700799@santoantoniorancharia.com.br
SUMMARY:Festividades Santo Antonio
DESCRIPTION:Festividades Santo Antonio – Acompanhe a agenda: \n\n\n\nDATA\nDIA SEMANA\nATIVIDADE\n\n\n01\n5ª Feira\nReunião Liturgia às 19h30 – Salão Paroquial\n\n\n02\n6ª. Feira\nApostolado da Oração às 15h Missa e Reunião\n\n\n03\nSábado\nReunião Coroinhas às 8h – Matriz/ Reunião EJC às 19h30 – Salão Paroquial\n\n\n04\nDomingo\n\nNOVENÁRIO DE SANTO ANTÔNIO – 1o. DIA /\nInvestidura dos novos Coroinhas às 19h – Matriz\n\n\n\n05\n2ª. Feira\nNovenário de Santo Antônio\n\n\n06\n3ª. Feira\nNovenário de Santo Antônio/ Crisma às 19h – Matriz\n\n\n07\n4ª. Feira\nNovenário de Santo Antônio\n\n\n08\n5ª. Feira\n\nCORPUS CHRISTI / Novenário de Santo Antônio\n\n\n\n09\n6ª. Feira\nNovenário de Santo Antônio + Quermesse\n\n\n10\nSábado\nNovenário de Santo Antônio + Quermesse\n\n\n11\nDomingo\nNovenário de Santo Antônio + Quermesse\n\n\n12\n2ª. Feira\nNovenário de Santo Antônio + Quermesse\n\n\n13\n3ª. Feira\n\nDIA DE SANTO ANTÔNIO • Quermesse
URL:https://santoantoniorancharia.com.br/evento/festividades-santo-antonio/
LOCATION:Paróquia Santo Antonio\, Rua Felipe Camarão\, 956\, Rancharia\, São Paulo\, 19600-000\, Brasil
CATEGORIES:Eventos Anuais
ATTACH;FMTTYPE=image/jpeg:https://santoantoniorancharia.com.br/wp-content/uploads/2023/05/nova-festa-St-Antonio.jpg
END:VEVENT
END:VCALENDAR